BEGIN:VCALENDAR
VERSION:2.0
PRODID:gruene-schwanewede.de
METHOD:PUBLISH
BEGIN:VTIMEZONE
TZID:Europe/Berlin
X-LIC-LOCATION:Europe/Berlin
BEGIN:DAYLIGHT
TZOFFSETFROM:+0100
TZOFFSETTO:+0200
TZNAME:CEST
DTSTART:19700329T020000
RRULE:FREQ=YEARLY;INTERVAL=1;BYDAY=-1SU;BYMONTH=3
END:DAYLIGHT
BEGIN:STANDARD
TZOFFSETFROM:+0200
TZOFFSETTO:+0100
TZNAME:CET
DTSTART:19701025T030000
RRULE:FREQ=YEARLY;INTERVAL=1;BYDAY=-1SU;BYMONTH=10
END:STANDARD
END:VTIMEZONE
BEGIN:VEVENT
UID:4369a27060bfe261ab150a107869d090@gruene-schwanewede.de
URL;VALUE=URI:https://gruene-schwanewede.de/termine/wahlkampf-endspurt/
LOCATION:Marktplatz Schwanewede, Schwanewede
SUMMARY:Wahlkampf Endspurt
DESCRIPTION;ALTREP="data:text/html,%0A%3Cp%3EKommt%20mit%20uns%20ins%20Ge
 spr%C3%A4ch.%20Marktplatz%20Schwanewede%3C%2Fp%3E%0A%0A%0A%0A%3Cp%3ESamst
 ag%2022.02.2025%20ab%2009%3A00%20Uhr%3C%2Fp%3E%0A":Kommt mit uns ins Gesp
 räch. Marktplatz Schwanewede\n\nSamstag 22.02.2025 ab 09:00 Uhr
CLASS:PUBLIC
DTSTART;TZID=Europe/Berlin:20250222T090000
DTEND;TZID=Europe/Berlin:20250222T120000
DTSTAMP:20260421T220151
END:VEVENT
END:VCALENDAR