BEGIN:VCALENDAR
VERSION:2.0
PRODID:gruene-schwanewede.de
METHOD:PUBLISH
BEGIN:VTIMEZONE
TZID:Europe/Berlin
X-LIC-LOCATION:Europe/Berlin
BEGIN:DAYLIGHT
TZOFFSETFROM:+0100
TZOFFSETTO:+0200
TZNAME:CEST
DTSTART:19700329T020000
RRULE:FREQ=YEARLY;INTERVAL=1;BYDAY=-1SU;BYMONTH=3
END:DAYLIGHT
BEGIN:STANDARD
TZOFFSETFROM:+0200
TZOFFSETTO:+0100
TZNAME:CET
DTSTART:19701025T030000
RRULE:FREQ=YEARLY;INTERVAL=1;BYDAY=-1SU;BYMONTH=10
END:STANDARD
END:VTIMEZONE
BEGIN:VEVENT
UID:1cdb0c7678296145045a827f188d3bde@gruene-schwanewede.de
URL;VALUE=URI:https://gruene-schwanewede.de/termine/kreismitgliederversam
 mlung/
LOCATION:Hamme Forum Ritterhude, Riesstraße 11, Ritterhude
SUMMARY:Kreismitgliederversammlung
DESCRIPTION;ALTREP="data:text/html,%0A%3Cp%3EUnsere%20herbstliche%20Kreis
 mitgliederversammlung%20findet%20ab%2020%20Uhr%20statt.%20Diesmal%20im%20
 Anschluss%20an%20das%20Neumitgliedertreffen%20und%20der%20Aufstellungsver
 sammlung%20der%20Landratskandidat%2Ainnen%20ab%2019%20Uhr%20am%20gleichen
 %20Ort.%3C%2Fp%3E%0A":Unsere herbstliche Kreismitgliederversammlung finde
 t ab 20 Uhr statt. Diesmal im Anschluss an das Neumitgliedertreffen und d
 er Aufstellungsversammlung der Landratskandidat*innen ab 19 Uhr am gleich
 en Ort.
CLASS:PUBLIC
DTSTART;TZID=Europe/Berlin:20251029T200000
DTEND;TZID=Europe/Berlin:20251029T220000
DTSTAMP:20260422T101200
END:VEVENT
END:VCALENDAR